BEGIN:VCALENDAR
VERSION:2.0
PRODID:-//Plone.org//NONSGML plone.app.event//EN
X-WR-TIMEZONE:Europe/Madrid
BEGIN:VEVENT
SUMMARY:Diada del Campus
DTSTART;VALUE=DATE:20260513
DTEND;VALUE=DATE:20260514
DTSTAMP:20260424T175242Z
UID:08210e9a52364a5bbede68670a3a3dd9@125.epsevg.upc.edu
CREATED:20260213T103415Z
LAST-MODIFIED:20260213T103441Z
URL:https://125.epsevg.upc.edu/ca/esdeveniments/diada-del-campus
END:VEVENT
END:VCALENDAR
