BEGIN:VCALENDAR
VERSION:2.0
PRODID:-//Plone.org//NONSGML plone.app.event//EN
X-WR-TIMEZONE:Europe/Madrid
BEGIN:VEVENT
SUMMARY:Fòrum d’empreses
DTSTART;VALUE=DATE:20260506
DTEND;VALUE=DATE:20260508
DTSTAMP:20260425T034739Z
UID:01726db125cc433c8a45c0ca51ed631f@125.epsevg.upc.edu
CREATED:20260213T103225Z
LAST-MODIFIED:20260213T103235Z
LOCATION:Biblioteca del Campus UPC Vilanova
URL:https://125.epsevg.upc.edu/ca/esdeveniments/forum-dempreses
END:VEVENT
END:VCALENDAR
