BEGIN:VCALENDAR
VERSION:2.0
PRODID:-//Plone.org//NONSGML plone.app.event//EN
X-WR-TIMEZONE:Europe/Madrid
BEGIN:VEVENT
SUMMARY:Vilahack
DTSTART;VALUE=DATE:20260516
DTEND;VALUE=DATE:20260518
DTSTAMP:20260424T174212Z
UID:06256e26b2164262829e3952a1caf8d6@125.epsevg.upc.edu
CREATED:20260213T103624Z
LAST-MODIFIED:20260213T103628Z
URL:https://125.epsevg.upc.edu/ca/esdeveniments/vilahack
END:VEVENT
END:VCALENDAR
